BEGIN:VCALENDAR
VERSION:2.0
PRODID:-//www.mbsmissionaries.org//NONSGML kigkonsult.se iCalcreator 2.30.1
 0//
CALSCALE:GREGORIAN
METHOD:PUBLISH
UID:2dcbc9b3-6414-4b62-9286-286731e94272
X-WR-CALDESC:
X-WR-RELCALID:252a07f41382fbbc75e36319275c3da4
X-WR-TIMEZONE:America/Chicago
BEGIN:VTIMEZONE
TZID:America/Chicago
BEGIN:STANDARD
TZNAME:CST
DTSTART:20261101T020000
TZOFFSETFROM:-0500
TZOFFSETTO:-0600
RDATE:20271107T020000
RDATE:20281105T020000
END:STANDARD
BEGIN:DAYLIGHT
TZNAME:CDT
DTSTART:20270314T020000
TZOFFSETFROM:-0600
TZOFFSETTO:-0500
RDATE:20280312T020000
END:DAYLIGHT
END:VTIMEZONE
BEGIN:VEVENT
UID:e38c96dc-f4e9-4a44-ab9a-64c60324f596
DTSTAMP:20260422T131241Z
DESCRIPTION:
DTSTART;TZID=America/Chicago:20270518T183000
DTEND;TZID=America/Chicago:20270518T193000
LOCATION:
SUMMARY:Prayer Group
END:VEVENT
END:VCALENDAR
