BEGIN:VCALENDAR
VERSION:2.0
PRODID:-//www.mbsmissionaries.org//NONSGML kigkonsult.se iCalcreator 2.30.1
 0//
CALSCALE:GREGORIAN
METHOD:PUBLISH
UID:c1a07251-cc52-4e61-91e1-ccf358831182
X-WR-CALDESC:
X-WR-RELCALID:be6ba6fd61cc7391160f4e881800b21e
X-WR-TIMEZONE:America/Chicago
BEGIN:VTIMEZONE
TZID:America/Chicago
BEGIN:STANDARD
TZNAME:CST
DTSTART:20261101T020000
TZOFFSETFROM:-0500
TZOFFSETTO:-0600
RDATE:20271107T020000
RDATE:20281105T020000
END:STANDARD
BEGIN:DAYLIGHT
TZNAME:CDT
DTSTART:20270314T020000
TZOFFSETFROM:-0600
TZOFFSETTO:-0500
RDATE:20280312T020000
END:DAYLIGHT
END:VTIMEZONE
BEGIN:VEVENT
UID:4d806ec2-7dbc-483b-989f-9bfbcc093df9
DTSTAMP:20260422T145922Z
DESCRIPTION:
DTSTART;TZID=America/Chicago:20270608T150000
DTEND;TZID=America/Chicago:20270608T160000
LOCATION:300 N. 18th Street\, Norfolk\, NE 68701 US
SUMMARY:Coffee with the Sisters on Zoom
END:VEVENT
END:VCALENDAR
