BEGIN:VCALENDAR
VERSION:2.0
PRODID:-//www.mbsmissionaries.org//NONSGML kigkonsult.se iCalcreator 2.30.1
 0//
CALSCALE:GREGORIAN
METHOD:PUBLISH
UID:f701c988-a094-4df0-ab5a-c5b94c7664c3
X-WR-CALDESC:
X-WR-RELCALID:20e75bfe5766bb886fb624dd9b60f21e
X-WR-TIMEZONE:America/Chicago
BEGIN:VTIMEZONE
TZID:America/Chicago
BEGIN:STANDARD
TZNAME:CST
DTSTART:20261101T020000
TZOFFSETFROM:-0500
TZOFFSETTO:-0600
RDATE:20271107T020000
RDATE:20281105T020000
END:STANDARD
BEGIN:DAYLIGHT
TZNAME:CDT
DTSTART:20270314T020000
TZOFFSETFROM:-0600
TZOFFSETTO:-0500
RDATE:20280312T020000
END:DAYLIGHT
END:VTIMEZONE
BEGIN:VEVENT
UID:243b8f21-fe39-49d8-8e9e-460aa0dc26ad
DTSTAMP:20260422T145347Z
DESCRIPTION:
DTSTART;TZID=America/Chicago:20270629T183000
DTEND;TZID=America/Chicago:20270629T193000
LOCATION:
SUMMARY:Prayer Group
END:VEVENT
END:VCALENDAR
