BEGIN:VCALENDAR
VERSION:2.0
PRODID:-//www.mbsmissionaries.org//NONSGML kigkonsult.se iCalcreator 2.30.1
 0//
CALSCALE:GREGORIAN
METHOD:PUBLISH
UID:1f507491-1693-420e-9c8c-0ecd7c00f8d8
X-WR-CALDESC:Come move with us...\nWednesdays and Fridays\, 10:00 a.m. \nat
  Immaculata Monastery! \n
X-WR-RELCALID:15869c2c96cfc20e10c898a2a384a589
X-WR-TIMEZONE:America/Chicago
BEGIN:VTIMEZONE
TZID:America/Chicago
BEGIN:STANDARD
TZNAME:CST
DTSTART:20261101T020000
TZOFFSETFROM:-0500
TZOFFSETTO:-0600
RDATE:20271107T020000
RDATE:20281105T020000
END:STANDARD
BEGIN:DAYLIGHT
TZNAME:CDT
DTSTART:20270314T020000
TZOFFSETFROM:-0600
TZOFFSETTO:-0500
RDATE:20280312T020000
END:DAYLIGHT
END:VTIMEZONE
BEGIN:VEVENT
UID:dd530e16-3870-4b32-9db6-2bd631d70f33
DTSTAMP:20260422T145922Z
DESCRIPTION:Come move with us...\nWednesdays and Fridays\, 10:00 a.m. \nat 
 Immaculata Monastery! \n
DTSTART;TZID=America/Chicago:20270630T100000
DTEND;TZID=America/Chicago:20270630T110000
LOCATION:Immaculata Monastery- 300 N. 18th St. Norfolk\, NE 68701
SUMMARY:Tai Chi: Moving for Better Balance
END:VEVENT
END:VCALENDAR
