BEGIN:VCALENDAR
VERSION:2.0
PRODID:-//www.mbsmissionaries.org//NONSGML kigkonsult.se iCalcreator 2.30.1
 0//
CALSCALE:GREGORIAN
METHOD:PUBLISH
UID:fcd9630d-ba17-44f3-ba2b-3f46ad8471ce
X-WR-CALDESC:
X-WR-RELCALID:7da6834556f6d93906b0ee1a757b7e50
X-WR-TIMEZONE:America/Chicago
BEGIN:VTIMEZONE
TZID:America/Chicago
BEGIN:STANDARD
TZNAME:CST
DTSTART:20261101T020000
TZOFFSETFROM:-0500
TZOFFSETTO:-0600
RDATE:20271107T020000
RDATE:20281105T020000
END:STANDARD
BEGIN:DAYLIGHT
TZNAME:CDT
DTSTART:20270314T020000
TZOFFSETFROM:-0600
TZOFFSETTO:-0500
RDATE:20280312T020000
END:DAYLIGHT
END:VTIMEZONE
BEGIN:VEVENT
UID:9fe26d29-e82d-42c0-a3fe-e8da7bec4635
DTSTAMP:20260422T165224Z
DESCRIPTION:
DTSTART;TZID=America/Chicago:20270706T150000
DTEND;TZID=America/Chicago:20270706T160000
LOCATION:300 N. 18th Street\, Norfolk\, NE 68701 US
SUMMARY:Coffee with the Sisters on Zoom
END:VEVENT
END:VCALENDAR
