BEGIN:VCALENDAR
VERSION:2.0
PRODID:-//www.mbsmissionaries.org//NONSGML kigkonsult.se iCalcreator 2.30.1
 0//
CALSCALE:GREGORIAN
METHOD:PUBLISH
UID:7ad49adb-068a-49b2-b883-d9e3934f8f72
X-WR-CALDESC:
X-WR-RELCALID:74f76b56b33f656e321f2cc3dccf27d2
X-WR-TIMEZONE:America/Chicago
BEGIN:VTIMEZONE
TZID:America/Chicago
BEGIN:STANDARD
TZNAME:CST
DTSTART:20261101T020000
TZOFFSETFROM:-0500
TZOFFSETTO:-0600
RDATE:20271107T020000
RDATE:20281105T020000
END:STANDARD
BEGIN:DAYLIGHT
TZNAME:CDT
DTSTART:20270314T020000
TZOFFSETFROM:-0600
TZOFFSETTO:-0500
RDATE:20280312T020000
END:DAYLIGHT
END:VTIMEZONE
BEGIN:VEVENT
UID:423c8c07-1d5a-4882-8f0c-c5c9c6d1fc2b
DTSTAMP:20260422T164341Z
DESCRIPTION:
DTSTART;TZID=America/Chicago:20270706T183000
DTEND;TZID=America/Chicago:20270706T193000
LOCATION:
SUMMARY:Prayer Group
END:VEVENT
END:VCALENDAR
