BEGIN:VCALENDAR
VERSION:2.0
PRODID:-//www.mbsmissionaries.org//NONSGML kigkonsult.se iCalcreator 2.30.1
 0//
CALSCALE:GREGORIAN
METHOD:PUBLISH
UID:609a0300-1462-45f7-9066-c49267244573
X-WR-CALDESC:
X-WR-RELCALID:a0dfda7a62e98a0f867865eac0de4827
X-WR-TIMEZONE:America/Chicago
BEGIN:VTIMEZONE
TZID:America/Chicago
BEGIN:STANDARD
TZNAME:CST
DTSTART:20261101T020000
TZOFFSETFROM:-0500
TZOFFSETTO:-0600
RDATE:20271107T020000
RDATE:20281105T020000
END:STANDARD
BEGIN:DAYLIGHT
TZNAME:CDT
DTSTART:20270314T020000
TZOFFSETFROM:-0600
TZOFFSETTO:-0500
RDATE:20280312T020000
END:DAYLIGHT
END:VTIMEZONE
BEGIN:VEVENT
UID:b2734d72-eb65-42fb-ab23-a3c10c000ed4
DTSTAMP:20260422T164341Z
DESCRIPTION:
DTSTART;TZID=America/Chicago:20270713T183000
DTEND;TZID=America/Chicago:20270713T193000
LOCATION:
SUMMARY:Prayer Group
END:VEVENT
END:VCALENDAR
