BEGIN:VCALENDAR
VERSION:2.0
PRODID:-//www.mbsmissionaries.org//NONSGML kigkonsult.se iCalcreator 2.30.1
 0//
CALSCALE:GREGORIAN
METHOD:PUBLISH
UID:b9cdb1a2-c958-45aa-b53d-5f53c4aaf5a4
X-WR-CALDESC:
X-WR-RELCALID:ddd571aa397d64d2c5692ec8db4adb0b
X-WR-TIMEZONE:America/Chicago
BEGIN:VTIMEZONE
TZID:America/Chicago
BEGIN:STANDARD
TZNAME:CST
DTSTART:20261101T020000
TZOFFSETFROM:-0500
TZOFFSETTO:-0600
RDATE:20271107T020000
RDATE:20281105T020000
END:STANDARD
BEGIN:DAYLIGHT
TZNAME:CDT
DTSTART:20270314T020000
TZOFFSETFROM:-0600
TZOFFSETTO:-0500
RDATE:20280312T020000
END:DAYLIGHT
END:VTIMEZONE
BEGIN:VEVENT
UID:c1b95a59-a9d7-4c24-a405-5dbfff07b040
DTSTAMP:20260422T164334Z
DESCRIPTION:
DTSTART;TZID=America/Chicago:20270720T183000
DTEND;TZID=America/Chicago:20270720T193000
LOCATION:
SUMMARY:Prayer Group
END:VEVENT
END:VCALENDAR
