BEGIN:VCALENDAR
VERSION:2.0
PRODID:-//www.mbsmissionaries.org//NONSGML kigkonsult.se iCalcreator 2.30.1
 0//
CALSCALE:GREGORIAN
METHOD:PUBLISH
UID:a8394030-43f1-4df8-95f1-a886092e551f
X-WR-CALDESC:
X-WR-RELCALID:2a2144ba70cdb94a1c9ebd57e9fca089
X-WR-TIMEZONE:America/Chicago
BEGIN:VTIMEZONE
TZID:America/Chicago
BEGIN:STANDARD
TZNAME:CST
DTSTART:20261101T020000
TZOFFSETFROM:-0500
TZOFFSETTO:-0600
RDATE:20271107T020000
RDATE:20281105T020000
END:STANDARD
BEGIN:DAYLIGHT
TZNAME:CDT
DTSTART:20270314T020000
TZOFFSETFROM:-0600
TZOFFSETTO:-0500
RDATE:20280312T020000
END:DAYLIGHT
END:VTIMEZONE
BEGIN:VEVENT
UID:3fe00029-8a19-4404-bd44-6b39c2c0b774
DTSTAMP:20260422T164519Z
DESCRIPTION:
DTSTART;TZID=America/Chicago:20270727T183000
DTEND;TZID=America/Chicago:20270727T193000
LOCATION:
SUMMARY:Prayer Group
END:VEVENT
END:VCALENDAR
