BEGIN:VCALENDAR
VERSION:2.0
PRODID:-//www.mbsmissionaries.org//NONSGML kigkonsult.se iCalcreator 2.30.1
 0//
CALSCALE:GREGORIAN
METHOD:PUBLISH
UID:7e79b12f-dfce-4c3f-bd51-2b3bc90e8fe1
X-WR-CALDESC:
X-WR-RELCALID:8e917fe5e5eeba43d27c0f854259a250
X-WR-TIMEZONE:America/Chicago
BEGIN:VTIMEZONE
TZID:America/Chicago
BEGIN:STANDARD
TZNAME:CST
DTSTART:20261101T020000
TZOFFSETFROM:-0500
TZOFFSETTO:-0600
RDATE:20271107T020000
RDATE:20281105T020000
END:STANDARD
BEGIN:DAYLIGHT
TZNAME:CDT
DTSTART:20270314T020000
TZOFFSETFROM:-0600
TZOFFSETTO:-0500
RDATE:20280312T020000
END:DAYLIGHT
END:VTIMEZONE
BEGIN:VEVENT
UID:347c1e40-7099-46a4-8b41-b0335c8b08ea
DTSTAMP:20260422T185237Z
DESCRIPTION:
DTSTART;TZID=America/Chicago:20270803T183000
DTEND;TZID=America/Chicago:20270803T193000
LOCATION:
SUMMARY:Prayer Group
END:VEVENT
END:VCALENDAR
