BEGIN:VCALENDAR
VERSION:2.0
PRODID:-//www.mbsmissionaries.org//NONSGML kigkonsult.se iCalcreator 2.30.1
 0//
CALSCALE:GREGORIAN
METHOD:PUBLISH
UID:160dfafc-5a65-44d1-b57e-b2ba59708d13
X-WR-CALDESC:
X-WR-RELCALID:0108e46a6059e15f6c4e9109f990f4fe
X-WR-TIMEZONE:America/Chicago
BEGIN:VTIMEZONE
TZID:America/Chicago
BEGIN:STANDARD
TZNAME:CST
DTSTART:20261101T020000
TZOFFSETFROM:-0500
TZOFFSETTO:-0600
RDATE:20271107T020000
RDATE:20281105T020000
END:STANDARD
BEGIN:DAYLIGHT
TZNAME:CDT
DTSTART:20270314T020000
TZOFFSETFROM:-0600
TZOFFSETTO:-0500
RDATE:20280312T020000
END:DAYLIGHT
END:VTIMEZONE
BEGIN:VEVENT
UID:b9f69df8-34a9-4ee2-a14b-8f30fb5e8449
DTSTAMP:20260422T182421Z
DESCRIPTION:
DTSTART;TZID=America/Chicago:20270810T183000
DTEND;TZID=America/Chicago:20270810T193000
LOCATION:
SUMMARY:Prayer Group
END:VEVENT
END:VCALENDAR
