BEGIN:VCALENDAR
VERSION:2.0
PRODID:-//www.mbsmissionaries.org//NONSGML kigkonsult.se iCalcreator 2.30.1
 0//
CALSCALE:GREGORIAN
METHOD:PUBLISH
UID:4c72d0d7-6bc6-4287-af16-21663d0aa53f
X-WR-CALDESC:
X-WR-RELCALID:7b2d38135bf531ccb35310808e01322c
X-WR-TIMEZONE:America/Chicago
BEGIN:VTIMEZONE
TZID:America/Chicago
BEGIN:STANDARD
TZNAME:CST
DTSTART:20261101T020000
TZOFFSETFROM:-0500
TZOFFSETTO:-0600
RDATE:20271107T020000
RDATE:20281105T020000
END:STANDARD
BEGIN:DAYLIGHT
TZNAME:CDT
DTSTART:20270314T020000
TZOFFSETFROM:-0600
TZOFFSETTO:-0500
RDATE:20280312T020000
END:DAYLIGHT
END:VTIMEZONE
BEGIN:VEVENT
UID:9ed19ada-5ab0-4545-b110-4fb6d30f3f3b
DTSTAMP:20260422T182405Z
DESCRIPTION:
DTSTART;TZID=America/Chicago:20270817T183000
DTEND;TZID=America/Chicago:20270817T193000
LOCATION:
SUMMARY:Prayer Group
END:VEVENT
END:VCALENDAR
