BEGIN:VCALENDAR
VERSION:2.0
PRODID:-//www.mbsmissionaries.org//NONSGML kigkonsult.se iCalcreator 2.30.1
 0//
CALSCALE:GREGORIAN
METHOD:PUBLISH
UID:f5f5c7af-39d9-4ed9-a1ed-649fff4dc981
X-WR-CALDESC:
X-WR-RELCALID:f63136b280e5f161dad73257b4692898
X-WR-TIMEZONE:America/Chicago
BEGIN:VTIMEZONE
TZID:America/Chicago
BEGIN:STANDARD
TZNAME:CST
DTSTART:20261101T020000
TZOFFSETFROM:-0500
TZOFFSETTO:-0600
RDATE:20271107T020000
RDATE:20281105T020000
END:STANDARD
BEGIN:DAYLIGHT
TZNAME:CDT
DTSTART:20270314T020000
TZOFFSETFROM:-0600
TZOFFSETTO:-0500
RDATE:20280312T020000
END:DAYLIGHT
END:VTIMEZONE
BEGIN:VEVENT
UID:3ca5ec84-9525-4bf6-8f39-4063098b6fa1
DTSTAMP:20260422T182001Z
DESCRIPTION:
DTSTART;TZID=America/Chicago:20270824T100000
DTEND;TZID=America/Chicago:20270824T110000
LOCATION:300 N. 18th Street\, Norfolk\, NE 68701 US
SUMMARY:Grief Support Group
END:VEVENT
END:VCALENDAR
