BEGIN:VCALENDAR
VERSION:2.0
PRODID:-//www.mbsmissionaries.org//NONSGML kigkonsult.se iCalcreator 2.30.1
 0//
CALSCALE:GREGORIAN
METHOD:PUBLISH
UID:292472ff-d0d9-4e3c-a84a-4652bfbccd88
X-WR-CALDESC:
X-WR-RELCALID:36432bf65409c078c0644132efed0979
X-WR-TIMEZONE:America/Chicago
BEGIN:VTIMEZONE
TZID:America/Chicago
BEGIN:STANDARD
TZNAME:CST
DTSTART:20261101T020000
TZOFFSETFROM:-0500
TZOFFSETTO:-0600
RDATE:20271107T020000
RDATE:20281105T020000
END:STANDARD
BEGIN:DAYLIGHT
TZNAME:CDT
DTSTART:20270314T020000
TZOFFSETFROM:-0600
TZOFFSETTO:-0500
RDATE:20280312T020000
END:DAYLIGHT
END:VTIMEZONE
BEGIN:VEVENT
UID:5efb7a47-275b-4188-87b5-05095d42f582
DTSTAMP:20260422T182446Z
DESCRIPTION:
DTSTART;TZID=America/Chicago:20270824T183000
DTEND;TZID=America/Chicago:20270824T193000
LOCATION:
SUMMARY:Prayer Group
END:VEVENT
END:VCALENDAR
