BEGIN:VCALENDAR
VERSION:2.0
PRODID:-//www.mbsmissionaries.org//NONSGML kigkonsult.se iCalcreator 2.30.1
 0//
CALSCALE:GREGORIAN
METHOD:PUBLISH
UID:75e0981f-f6cd-4b70-bdae-0b63a9ea92de
X-WR-CALDESC:
X-WR-RELCALID:5492004e595dffb5edaefd15e7cf03ad
X-WR-TIMEZONE:America/Chicago
BEGIN:VTIMEZONE
TZID:America/Chicago
BEGIN:STANDARD
TZNAME:CST
DTSTART:20261101T020000
TZOFFSETFROM:-0500
TZOFFSETTO:-0600
RDATE:20271107T020000
RDATE:20281105T020000
END:STANDARD
BEGIN:DAYLIGHT
TZNAME:CDT
DTSTART:20270314T020000
TZOFFSETFROM:-0600
TZOFFSETTO:-0500
RDATE:20280312T020000
END:DAYLIGHT
END:VTIMEZONE
BEGIN:VEVENT
UID:a9553aeb-0e95-413b-bf67-fca1222816bb
DTSTAMP:20260422T204535Z
DESCRIPTION:
DTSTART;TZID=America/Chicago:20270907T150000
DTEND;TZID=America/Chicago:20270907T160000
LOCATION:300 N. 18th Street\, Norfolk\, NE 68701 US
SUMMARY:Coffee with the Sisters on Zoom
END:VEVENT
END:VCALENDAR
