BEGIN:VCALENDAR
VERSION:2.0
PRODID:-//www.mbsmissionaries.org//NONSGML kigkonsult.se iCalcreator 2.30.1
 0//
CALSCALE:GREGORIAN
METHOD:PUBLISH
UID:03743977-283c-4f7a-befe-a4ad945e4234
X-WR-CALDESC:
X-WR-RELCALID:9038e9cbdd0ddd3203208c5aa38c8492
X-WR-TIMEZONE:America/Chicago
BEGIN:VTIMEZONE
TZID:America/Chicago
BEGIN:STANDARD
TZNAME:CST
DTSTART:20261101T020000
TZOFFSETFROM:-0500
TZOFFSETTO:-0600
RDATE:20271107T020000
RDATE:20281105T020000
END:STANDARD
BEGIN:DAYLIGHT
TZNAME:CDT
DTSTART:20270314T020000
TZOFFSETFROM:-0600
TZOFFSETTO:-0500
RDATE:20280312T020000
END:DAYLIGHT
END:VTIMEZONE
BEGIN:VEVENT
UID:b94f4d33-1841-48ea-8524-7e1877f73540
DTSTAMP:20260422T200809Z
DESCRIPTION:
DTSTART;TZID=America/Chicago:20270907T183000
DTEND;TZID=America/Chicago:20270907T193000
LOCATION:
SUMMARY:Prayer Group
END:VEVENT
END:VCALENDAR
