BEGIN:VCALENDAR
VERSION:2.0
PRODID:-//www.mbsmissionaries.org//NONSGML kigkonsult.se iCalcreator 2.30.1
 0//
CALSCALE:GREGORIAN
METHOD:PUBLISH
UID:6d5953c7-5380-4079-9226-8a2466f5e953
X-WR-CALDESC:\n
X-WR-RELCALID:8318d56bd7a9c1e0787db2ac596dbe05
X-WR-TIMEZONE:America/Chicago
BEGIN:VTIMEZONE
TZID:America/Chicago
BEGIN:STANDARD
TZNAME:CST
DTSTART:20261101T020000
TZOFFSETFROM:-0500
TZOFFSETTO:-0600
RDATE:20271107T020000
RDATE:20281105T020000
END:STANDARD
BEGIN:DAYLIGHT
TZNAME:CDT
DTSTART:20270314T020000
TZOFFSETFROM:-0600
TZOFFSETTO:-0500
RDATE:20280312T020000
END:DAYLIGHT
END:VTIMEZONE
BEGIN:VEVENT
UID:1ffd688e-197b-4665-b834-e2631cb24b7c
DTSTAMP:20260422T200702Z
DESCRIPTION:\n
DTSTART;TZID=America/Chicago:20270908T140000
DTEND;TZID=America/Chicago:20270908T150000
LOCATION:
SUMMARY:Anxiety & Depression Support Group
END:VEVENT
END:VCALENDAR
