BEGIN:VCALENDAR
VERSION:2.0
PRODID:-//www.mbsmissionaries.org//NONSGML kigkonsult.se iCalcreator 2.30.1
 0//
CALSCALE:GREGORIAN
METHOD:PUBLISH
UID:b5cf3fb0-9002-423c-91df-bf2398d69686
X-WR-CALDESC:
X-WR-RELCALID:df48020d0e2384072145a3ede07f525e
X-WR-TIMEZONE:America/Chicago
BEGIN:VTIMEZONE
TZID:America/Chicago
BEGIN:STANDARD
TZNAME:CST
DTSTART:20261101T020000
TZOFFSETFROM:-0500
TZOFFSETTO:-0600
RDATE:20271107T020000
RDATE:20281105T020000
END:STANDARD
BEGIN:DAYLIGHT
TZNAME:CDT
DTSTART:20270314T020000
TZOFFSETFROM:-0600
TZOFFSETTO:-0500
RDATE:20280312T020000
RDATE:20290311T020000
END:DAYLIGHT
END:VTIMEZONE
BEGIN:VEVENT
UID:b44d9b00-ff5c-4aa0-9cc1-1c88107e8b9f
DTSTAMP:20260422T200720Z
DESCRIPTION:
DTSTART;TZID=America/Chicago:20270914T183000
DTEND;TZID=America/Chicago:20270914T193000
LOCATION:
SUMMARY:Prayer Group
END:VEVENT
END:VCALENDAR
