BEGIN:VCALENDAR
VERSION:2.0
PRODID:-//www.mbsmissionaries.org//NONSGML kigkonsult.se iCalcreator 2.30.1
 0//
CALSCALE:GREGORIAN
METHOD:PUBLISH
UID:44056705-01fc-4400-96d7-f5fe670d24f8
X-WR-CALDESC:
X-WR-RELCALID:43266281876fd326bab3265e9e8e2869
X-WR-TIMEZONE:America/Chicago
BEGIN:VTIMEZONE
TZID:America/Chicago
BEGIN:STANDARD
TZNAME:CST
DTSTART:20261101T020000
TZOFFSETFROM:-0500
TZOFFSETTO:-0600
RDATE:20271107T020000
RDATE:20281105T020000
END:STANDARD
BEGIN:DAYLIGHT
TZNAME:CDT
DTSTART:20270314T020000
TZOFFSETFROM:-0600
TZOFFSETTO:-0500
RDATE:20280312T020000
RDATE:20290311T020000
END:DAYLIGHT
END:VTIMEZONE
BEGIN:VEVENT
UID:f28500a5-b08c-4f8d-b33b-ad7d228359a0
DTSTAMP:20260422T200654Z
DESCRIPTION:
DTSTART;TZID=America/Chicago:20270921T183000
DTEND;TZID=America/Chicago:20270921T193000
LOCATION:
SUMMARY:Prayer Group
END:VEVENT
END:VCALENDAR
