BEGIN:VCALENDAR
VERSION:2.0
PRODID:-//www.mbsmissionaries.org//NONSGML kigkonsult.se iCalcreator 2.30.1
 0//
CALSCALE:GREGORIAN
METHOD:PUBLISH
UID:7a00b9ad-ea48-4f0b-8bce-a5ce40b4de3d
X-WR-CALDESC:
X-WR-RELCALID:7e54e6fe4695b7376aaa17328c0e3de4
X-WR-TIMEZONE:America/Chicago
BEGIN:VTIMEZONE
TZID:America/Chicago
BEGIN:STANDARD
TZNAME:CST
DTSTART:20261101T020000
TZOFFSETFROM:-0500
TZOFFSETTO:-0600
RDATE:20271107T020000
RDATE:20281105T020000
END:STANDARD
BEGIN:DAYLIGHT
TZNAME:CDT
DTSTART:20270314T020000
TZOFFSETFROM:-0600
TZOFFSETTO:-0500
RDATE:20280312T020000
RDATE:20290311T020000
END:DAYLIGHT
END:VTIMEZONE
BEGIN:VEVENT
UID:a539ac66-01f5-4396-8403-0923f6869046
DTSTAMP:20260422T203524Z
DESCRIPTION:
DTSTART;TZID=America/Chicago:20270928T183000
DTEND;TZID=America/Chicago:20270928T193000
LOCATION:
SUMMARY:Prayer Group
END:VEVENT
END:VCALENDAR
