BEGIN:VCALENDAR
VERSION:2.0
PRODID:-//www.mbsmissionaries.org//NONSGML kigkonsult.se iCalcreator 2.30.1
 0//
CALSCALE:GREGORIAN
METHOD:PUBLISH
UID:33522182-7a32-415f-85c9-0bfdc0c142ad
X-WR-CALDESC:Join us on Zoom for the Cancer Survivor Support Group!
X-WR-RELCALID:30cd9dab01db81fe592d901499d94927
X-WR-TIMEZONE:America/Chicago
BEGIN:VTIMEZONE
TZID:America/Chicago
BEGIN:STANDARD
TZNAME:CST
DTSTART:20261101T020000
TZOFFSETFROM:-0500
TZOFFSETTO:-0600
RDATE:20271107T020000
RDATE:20281105T020000
END:STANDARD
BEGIN:DAYLIGHT
TZNAME:CDT
DTSTART:20270314T020000
TZOFFSETFROM:-0600
TZOFFSETTO:-0500
RDATE:20280312T020000
RDATE:20290311T020000
END:DAYLIGHT
END:VTIMEZONE
BEGIN:VEVENT
UID:89eab7e2-a17d-429b-9e28-3dc8af316cb9
DTSTAMP:20260422T204353Z
DESCRIPTION:Join us on Zoom for the Cancer Survivor Support Group!
DTSTART;TZID=America/Chicago:20270930T190000
DTEND;TZID=America/Chicago:20270930T200000
LOCATION:
SUMMARY:Cancer Survivor Support Group
END:VEVENT
END:VCALENDAR
