BEGIN:VCALENDAR
VERSION:2.0
PRODID:-//www.mbsmissionaries.org//NONSGML kigkonsult.se iCalcreator 2.30.1
 0//
CALSCALE:GREGORIAN
METHOD:PUBLISH
UID:265ff5ce-e049-4446-aa60-9a3c3f5183b4
X-WR-CALDESC:Missionary Benedictine Sisters welcome one and all to Lectio D
 ivina with the Sisters.  \nMonday Evenings – 7:30 PM\n4th Floor – St. Ther
 esa Mtg. Rm.  \nImmaculata Monastery\n300 N. 18th St. Norfolk\, NE\n
X-WR-RELCALID:dba32183d077283f1c35c0276f10a762
X-WR-TIMEZONE:America/Chicago
BEGIN:VTIMEZONE
TZID:America/Chicago
BEGIN:STANDARD
TZNAME:CST
DTSTART:20261101T020000
TZOFFSETFROM:-0500
TZOFFSETTO:-0600
RDATE:20271107T020000
RDATE:20281105T020000
END:STANDARD
BEGIN:DAYLIGHT
TZNAME:CDT
DTSTART:20270314T020000
TZOFFSETFROM:-0600
TZOFFSETTO:-0500
RDATE:20280312T020000
RDATE:20290311T020000
END:DAYLIGHT
END:VTIMEZONE
BEGIN:VEVENT
UID:caddebe0-7cec-4df3-bca3-cb330a0e26ab
DTSTAMP:20260422T221545Z
DESCRIPTION:Missionary Benedictine Sisters welcome one and all to Lectio Di
 vina with the Sisters.  \nMonday Evenings – 7:30 PM\n4th Floor – St. There
 sa Mtg. Rm.  \nImmaculata Monastery\n300 N. 18th St. Norfolk\, NE\n
DTSTART;TZID=America/Chicago:20271004T193000
DTEND;TZID=America/Chicago:20271004T203000
LOCATION:300 N. 18th St.\, Norfolk\, NE
SUMMARY:Lectio Divina
END:VEVENT
END:VCALENDAR
