BEGIN:VCALENDAR
VERSION:2.0
PRODID:-//www.mbsmissionaries.org//NONSGML kigkonsult.se iCalcreator 2.30.1
 0//
CALSCALE:GREGORIAN
METHOD:PUBLISH
UID:31a8017d-1ccc-42c9-9207-8b40c47a175a
X-WR-CALDESC:
X-WR-RELCALID:a92ad95465b485e1844cf7ee1b36d6ce
X-WR-TIMEZONE:America/Chicago
BEGIN:VTIMEZONE
TZID:America/Chicago
BEGIN:STANDARD
TZNAME:CST
DTSTART:20261101T020000
TZOFFSETFROM:-0500
TZOFFSETTO:-0600
RDATE:20271107T020000
RDATE:20281105T020000
END:STANDARD
BEGIN:DAYLIGHT
TZNAME:CDT
DTSTART:20270314T020000
TZOFFSETFROM:-0600
TZOFFSETTO:-0500
RDATE:20280312T020000
RDATE:20290311T020000
END:DAYLIGHT
END:VTIMEZONE
BEGIN:VEVENT
UID:b4639662-bb25-412c-87d2-0447f18c5e96
DTSTAMP:20260422T221457Z
DESCRIPTION:
DTSTART;TZID=America/Chicago:20271005T183000
DTEND;TZID=America/Chicago:20271005T193000
LOCATION:
SUMMARY:Prayer Group
END:VEVENT
END:VCALENDAR
