BEGIN:VCALENDAR
VERSION:2.0
PRODID:-//www.mbsmissionaries.org//NONSGML kigkonsult.se iCalcreator 2.30.1
 0//
CALSCALE:GREGORIAN
METHOD:PUBLISH
UID:35e4cc57-28d2-4db5-9d2c-46158178ab02
X-WR-CALDESC:
X-WR-RELCALID:158e4beef25b35706ef15afee829d67d
X-WR-TIMEZONE:America/Chicago
BEGIN:VTIMEZONE
TZID:America/Chicago
BEGIN:STANDARD
TZNAME:CST
DTSTART:20261101T020000
TZOFFSETFROM:-0500
TZOFFSETTO:-0600
RDATE:20271107T020000
RDATE:20281105T020000
END:STANDARD
BEGIN:DAYLIGHT
TZNAME:CDT
DTSTART:20270314T020000
TZOFFSETFROM:-0600
TZOFFSETTO:-0500
RDATE:20280312T020000
RDATE:20290311T020000
END:DAYLIGHT
END:VTIMEZONE
BEGIN:VEVENT
UID:df50b772-a57f-47a5-87a1-9a0eb55925a8
DTSTAMP:20260422T221319Z
DESCRIPTION:
DTSTART;TZID=America/Chicago:20271019T183000
DTEND;TZID=America/Chicago:20271019T193000
LOCATION:
SUMMARY:Prayer Group
END:VEVENT
END:VCALENDAR
