BEGIN:VCALENDAR
VERSION:2.0
PRODID:-//www.mbsmissionaries.org//NONSGML kigkonsult.se iCalcreator 2.30.1
 0//
CALSCALE:GREGORIAN
METHOD:PUBLISH
UID:7b1f7d27-bb90-4414-8e26-7107b7c52627
X-WR-CALDESC:
X-WR-RELCALID:4bb9c80054ade371a0c426da72857414
X-WR-TIMEZONE:America/Chicago
BEGIN:VTIMEZONE
TZID:America/Chicago
BEGIN:STANDARD
TZNAME:CST
DTSTART:20271107T020000
TZOFFSETFROM:-0500
TZOFFSETTO:-0600
RDATE:20281105T020000
END:STANDARD
BEGIN:DAYLIGHT
TZNAME:CDT
DTSTART:20270314T020000
TZOFFSETFROM:-0600
TZOFFSETTO:-0500
RDATE:20280312T020000
RDATE:20290311T020000
END:DAYLIGHT
END:VTIMEZONE
BEGIN:VEVENT
UID:194fd9ed-f865-40ad-9bd3-1d9b8fffb4b5
DTSTAMP:20260422T233934Z
DESCRIPTION:
DTSTART;TZID=America/Chicago:20271102T183000
DTEND;TZID=America/Chicago:20271102T193000
LOCATION:
SUMMARY:Prayer Group
END:VEVENT
END:VCALENDAR
