BEGIN:VCALENDAR
VERSION:2.0
PRODID:-//www.mbsmissionaries.org//NONSGML kigkonsult.se iCalcreator 2.30.1
 0//
CALSCALE:GREGORIAN
METHOD:PUBLISH
UID:443355ee-6a47-4e0b-8eb6-129df80d462a
X-WR-CALDESC:Join us on Zoom for the Cancer Survivor Support Group!
X-WR-RELCALID:2bd3091b01f02e7ffbc9638f4bcf9c35
X-WR-TIMEZONE:America/Chicago
BEGIN:VTIMEZONE
TZID:America/Chicago
BEGIN:STANDARD
TZNAME:CST
DTSTART:20271107T020000
TZOFFSETFROM:-0500
TZOFFSETTO:-0600
RDATE:20281105T020000
END:STANDARD
BEGIN:DAYLIGHT
TZNAME:CDT
DTSTART:20270314T020000
TZOFFSETFROM:-0600
TZOFFSETTO:-0500
RDATE:20280312T020000
RDATE:20290311T020000
END:DAYLIGHT
END:VTIMEZONE
BEGIN:VEVENT
UID:1cdb0007-0ff3-4eb5-b9ed-8250636760d1
DTSTAMP:20260422T234335Z
DESCRIPTION:Join us on Zoom for the Cancer Survivor Support Group!
DTSTART;TZID=America/Chicago:20271104T190000
DTEND;TZID=America/Chicago:20271104T200000
LOCATION:
SUMMARY:Cancer Survivor Support Group
END:VEVENT
END:VCALENDAR
