BEGIN:VCALENDAR
VERSION:2.0
PRODID:-//www.mbsmissionaries.org//NONSGML kigkonsult.se iCalcreator 2.30.1
 0//
CALSCALE:GREGORIAN
METHOD:PUBLISH
UID:649b6ce6-e5c4-4641-a231-bf0f2d145843
X-WR-CALDESC:Missionary Benedictine Sisters welcome one and all to Lectio D
 ivina with the Sisters.  \nMonday Evenings – 7:30 PM\n4th Floor – St. Ther
 esa Mtg. Rm.  \nImmaculata Monastery\n300 N. 18th St. Norfolk\, NE\n
X-WR-RELCALID:380ace722b60836e3e3bc0a210c35fe7
X-WR-TIMEZONE:America/Chicago
BEGIN:VTIMEZONE
TZID:America/Chicago
BEGIN:STANDARD
TZNAME:CST
DTSTART:20271107T020000
TZOFFSETFROM:-0500
TZOFFSETTO:-0600
RDATE:20281105T020000
END:STANDARD
BEGIN:DAYLIGHT
TZNAME:CDT
DTSTART:20270314T020000
TZOFFSETFROM:-0600
TZOFFSETTO:-0500
RDATE:20280312T020000
RDATE:20290311T020000
END:DAYLIGHT
END:VTIMEZONE
BEGIN:VEVENT
UID:3d6f056d-2113-4f20-a8dc-2d0f04d1213e
DTSTAMP:20260422T234358Z
DESCRIPTION:Missionary Benedictine Sisters welcome one and all to Lectio Di
 vina with the Sisters.  \nMonday Evenings – 7:30 PM\n4th Floor – St. There
 sa Mtg. Rm.  \nImmaculata Monastery\n300 N. 18th St. Norfolk\, NE\n
DTSTART;TZID=America/Chicago:20271108T193000
DTEND;TZID=America/Chicago:20271108T203000
LOCATION:300 N. 18th St.\, Norfolk\, NE
SUMMARY:Lectio Divina
END:VEVENT
END:VCALENDAR
