BEGIN:VCALENDAR
VERSION:2.0
PRODID:-//www.mbsmissionaries.org//NONSGML kigkonsult.se iCalcreator 2.30.1
 0//
CALSCALE:GREGORIAN
METHOD:PUBLISH
UID:47811df7-1242-4d43-8033-a55df11ee3d2
X-WR-CALDESC:
X-WR-RELCALID:8cabb31e8ad17590f7300692de34763b
X-WR-TIMEZONE:America/Chicago
BEGIN:VTIMEZONE
TZID:America/Chicago
BEGIN:STANDARD
TZNAME:CST
DTSTART:20271107T020000
TZOFFSETFROM:-0500
TZOFFSETTO:-0600
RDATE:20281105T020000
END:STANDARD
BEGIN:DAYLIGHT
TZNAME:CDT
DTSTART:20270314T020000
TZOFFSETFROM:-0600
TZOFFSETTO:-0500
RDATE:20280312T020000
RDATE:20290311T020000
END:DAYLIGHT
END:VTIMEZONE
BEGIN:VEVENT
UID:c9e7a62e-f353-48ca-a705-6d5ed34dcf8c
DTSTAMP:20260422T233955Z
DESCRIPTION:
DTSTART;TZID=America/Chicago:20271109T183000
DTEND;TZID=America/Chicago:20271109T193000
LOCATION:
SUMMARY:Prayer Group
END:VEVENT
END:VCALENDAR
