BEGIN:VCALENDAR
VERSION:2.0
PRODID:-//www.mbsmissionaries.org//NONSGML kigkonsult.se iCalcreator 2.30.1
 0//
CALSCALE:GREGORIAN
METHOD:PUBLISH
UID:51eab2f0-163c-441e-858f-ae96a5e3cb44
X-WR-CALDESC:
X-WR-RELCALID:ef9a3245c5bedc6c42dfd0fb34862ee2
X-WR-TIMEZONE:America/Chicago
BEGIN:VTIMEZONE
TZID:America/Chicago
BEGIN:STANDARD
TZNAME:CST
DTSTART:20271107T020000
TZOFFSETFROM:-0500
TZOFFSETTO:-0600
RDATE:20281105T020000
END:STANDARD
BEGIN:DAYLIGHT
TZNAME:CDT
DTSTART:20270314T020000
TZOFFSETFROM:-0600
TZOFFSETTO:-0500
RDATE:20280312T020000
RDATE:20290311T020000
END:DAYLIGHT
END:VTIMEZONE
BEGIN:VEVENT
UID:dd2947b9-aa17-4caa-bfc2-ceee9d0120e4
DTSTAMP:20260422T234110Z
DESCRIPTION:
DTSTART;TZID=America/Chicago:20271116T183000
DTEND;TZID=America/Chicago:20271116T193000
LOCATION:
SUMMARY:Prayer Group
END:VEVENT
END:VCALENDAR
