BEGIN:VCALENDAR
VERSION:2.0
PRODID:-//www.mbsmissionaries.org//NONSGML kigkonsult.se iCalcreator 2.30.1
 0//
CALSCALE:GREGORIAN
METHOD:PUBLISH
UID:d7fa0bea-ca8f-495e-9831-98487944da2e
X-WR-CALDESC:
X-WR-RELCALID:f840ee4a5c1eb851d98782c5d0df930e
X-WR-TIMEZONE:America/Chicago
BEGIN:VTIMEZONE
TZID:America/Chicago
BEGIN:STANDARD
TZNAME:CST
DTSTART:20271107T020000
TZOFFSETFROM:-0500
TZOFFSETTO:-0600
RDATE:20281105T020000
END:STANDARD
BEGIN:DAYLIGHT
TZNAME:CDT
DTSTART:20270314T020000
TZOFFSETFROM:-0600
TZOFFSETTO:-0500
RDATE:20280312T020000
RDATE:20290311T020000
END:DAYLIGHT
END:VTIMEZONE
BEGIN:VEVENT
UID:4babf759-f1e3-484c-9345-10ca13d48c7a
DTSTAMP:20260422T234141Z
DESCRIPTION:
DTSTART;TZID=America/Chicago:20271130T183000
DTEND;TZID=America/Chicago:20271130T193000
LOCATION:
SUMMARY:Prayer Group
END:VEVENT
END:VCALENDAR
