BEGIN:VCALENDAR
VERSION:2.0
PRODID:-//www.mbsmissionaries.org//NONSGML kigkonsult.se iCalcreator 2.30.1
 0//
CALSCALE:GREGORIAN
METHOD:PUBLISH
UID:6ed658c5-988f-4e46-b823-cc85bc28becb
X-WR-CALDESC:
X-WR-RELCALID:6a2e54983df50048331f5f6f731fc98f
X-WR-TIMEZONE:America/Chicago
BEGIN:VTIMEZONE
TZID:America/Chicago
BEGIN:STANDARD
TZNAME:CST
DTSTART:20271107T020000
TZOFFSETFROM:-0500
TZOFFSETTO:-0600
RDATE:20281105T020000
END:STANDARD
BEGIN:DAYLIGHT
TZNAME:CDT
DTSTART:20270314T020000
TZOFFSETFROM:-0600
TZOFFSETTO:-0500
RDATE:20280312T020000
RDATE:20290311T020000
END:DAYLIGHT
END:VTIMEZONE
BEGIN:VEVENT
UID:47533415-72e3-4aeb-a868-e073817adda8
DTSTAMP:20260423T014029Z
DESCRIPTION:
DTSTART;TZID=America/Chicago:20271207T183000
DTEND;TZID=America/Chicago:20271207T193000
LOCATION:
SUMMARY:Prayer Group
END:VEVENT
END:VCALENDAR
