BEGIN:VCALENDAR
VERSION:2.0
PRODID:-//www.mbsmissionaries.org//NONSGML kigkonsult.se iCalcreator 2.30.1
 0//
CALSCALE:GREGORIAN
METHOD:PUBLISH
UID:d26073df-b678-48e5-9bc4-ffab71cf516c
X-WR-CALDESC:
X-WR-RELCALID:a7b33a924cea56d6a4e4514636ddff48
X-WR-TIMEZONE:America/Chicago
BEGIN:VTIMEZONE
TZID:America/Chicago
BEGIN:STANDARD
TZNAME:CST
DTSTART:20271107T020000
TZOFFSETFROM:-0500
TZOFFSETTO:-0600
RDATE:20281105T020000
END:STANDARD
BEGIN:DAYLIGHT
TZNAME:CDT
DTSTART:20270314T020000
TZOFFSETFROM:-0600
TZOFFSETTO:-0500
RDATE:20280312T020000
RDATE:20290311T020000
END:DAYLIGHT
END:VTIMEZONE
BEGIN:VEVENT
UID:f9ee0ddc-8a2b-4c8e-823e-e49ff1027e24
DTSTAMP:20260423T014039Z
DESCRIPTION:
DTSTART;TZID=America/Chicago:20271214T183000
DTEND;TZID=America/Chicago:20271214T193000
LOCATION:
SUMMARY:Prayer Group
END:VEVENT
END:VCALENDAR
