BEGIN:VCALENDAR
VERSION:2.0
PRODID:-//www.mbsmissionaries.org//NONSGML kigkonsult.se iCalcreator 2.30.1
 0//
CALSCALE:GREGORIAN
METHOD:PUBLISH
UID:cdfc81be-b905-4914-a8af-3334f4d100cb
X-WR-CALDESC:Missionary Benedictine Sisters welcome one and all to Lectio D
 ivina with the Sisters.  \nMonday Evenings – 7:30 PM\n4th Floor – St. Ther
 esa Mtg. Rm.  \nImmaculata Monastery\n300 N. 18th St. Norfolk\, NE\n
X-WR-RELCALID:94b5dade5da2822c825080008fc28845
X-WR-TIMEZONE:America/Chicago
BEGIN:VTIMEZONE
TZID:America/Chicago
BEGIN:STANDARD
TZNAME:CST
DTSTART:20271107T020000
TZOFFSETFROM:-0500
TZOFFSETTO:-0600
RDATE:20281105T020000
END:STANDARD
BEGIN:DAYLIGHT
TZNAME:CDT
DTSTART:20270314T020000
TZOFFSETFROM:-0600
TZOFFSETTO:-0500
RDATE:20280312T020000
RDATE:20290311T020000
END:DAYLIGHT
END:VTIMEZONE
BEGIN:VEVENT
UID:53a7d0c2-bc4e-49ea-afd6-32212664f883
DTSTAMP:20260423T035110Z
DESCRIPTION:Missionary Benedictine Sisters welcome one and all to Lectio Di
 vina with the Sisters.  \nMonday Evenings – 7:30 PM\n4th Floor – St. There
 sa Mtg. Rm.  \nImmaculata Monastery\n300 N. 18th St. Norfolk\, NE\n
DTSTART;TZID=America/Chicago:20280103T193000
DTEND;TZID=America/Chicago:20280103T203000
LOCATION:300 N. 18th St.\, Norfolk\, NE
SUMMARY:Lectio Divina
END:VEVENT
END:VCALENDAR
