BEGIN:VCALENDAR
VERSION:2.0
PRODID:-//www.mbsmissionaries.org//NONSGML kigkonsult.se iCalcreator 2.30.1
 0//
CALSCALE:GREGORIAN
METHOD:PUBLISH
UID:f14835f5-29ed-403d-b0a9-850329c40182
X-WR-CALDESC:
X-WR-RELCALID:442a17a192af3cd3922434d70768203c
X-WR-TIMEZONE:America/Chicago
BEGIN:VTIMEZONE
TZID:America/Chicago
BEGIN:STANDARD
TZNAME:CST
DTSTART:20271107T020000
TZOFFSETFROM:-0500
TZOFFSETTO:-0600
RDATE:20281105T020000
END:STANDARD
BEGIN:DAYLIGHT
TZNAME:CDT
DTSTART:20270314T020000
TZOFFSETFROM:-0600
TZOFFSETTO:-0500
RDATE:20280312T020000
RDATE:20290311T020000
END:DAYLIGHT
END:VTIMEZONE
BEGIN:VEVENT
UID:bca7dccb-28b6-4a84-93e3-c8c86ed58eb6
DTSTAMP:20260423T033320Z
DESCRIPTION:
DTSTART;TZID=America/Chicago:20280104T183000
DTEND;TZID=America/Chicago:20280104T193000
LOCATION:
SUMMARY:Prayer Group
END:VEVENT
END:VCALENDAR
