BEGIN:VCALENDAR
VERSION:2.0
PRODID:-//www.mbsmissionaries.org//NONSGML kigkonsult.se iCalcreator 2.30.1
 0//
CALSCALE:GREGORIAN
METHOD:PUBLISH
UID:f28c20d7-b0f0-4cc9-b3fd-cc9f06af454c
X-WR-CALDESC:
X-WR-RELCALID:5a3892b5ba3b5878c9a528009ca489ee
X-WR-TIMEZONE:America/Chicago
BEGIN:VTIMEZONE
TZID:America/Chicago
BEGIN:STANDARD
TZNAME:CST
DTSTART:20271107T020000
TZOFFSETFROM:-0500
TZOFFSETTO:-0600
RDATE:20281105T020000
END:STANDARD
BEGIN:DAYLIGHT
TZNAME:CDT
DTSTART:20270314T020000
TZOFFSETFROM:-0600
TZOFFSETTO:-0500
RDATE:20280312T020000
RDATE:20290311T020000
END:DAYLIGHT
END:VTIMEZONE
BEGIN:VEVENT
UID:21f70390-b9b0-47c5-a97d-a899626bce66
DTSTAMP:20260423T033157Z
DESCRIPTION:
DTSTART;TZID=America/Chicago:20280111T183000
DTEND;TZID=America/Chicago:20280111T193000
LOCATION:
SUMMARY:Prayer Group
END:VEVENT
END:VCALENDAR
