BEGIN:VCALENDAR
VERSION:2.0
PRODID:-//www.mbsmissionaries.org//NONSGML kigkonsult.se iCalcreator 2.30.1
 0//
CALSCALE:GREGORIAN
METHOD:PUBLISH
UID:8b0e3aee-7637-42f9-aa1b-9e48c4c16c69
X-WR-CALDESC:
X-WR-RELCALID:2c9d90984c0418180bbad438f71d7524
X-WR-TIMEZONE:America/Chicago
BEGIN:VTIMEZONE
TZID:America/Chicago
BEGIN:STANDARD
TZNAME:CST
DTSTART:20271107T020000
TZOFFSETFROM:-0500
TZOFFSETTO:-0600
RDATE:20281105T020000
END:STANDARD
BEGIN:DAYLIGHT
TZNAME:CDT
DTSTART:20270314T020000
TZOFFSETFROM:-0600
TZOFFSETTO:-0500
RDATE:20280312T020000
RDATE:20290311T020000
END:DAYLIGHT
END:VTIMEZONE
BEGIN:VEVENT
UID:bf5bde3f-a8a5-4c80-9c51-384fca3f8773
DTSTAMP:20260423T033157Z
DESCRIPTION:
DTSTART;TZID=America/Chicago:20280118T183000
DTEND;TZID=America/Chicago:20280118T193000
LOCATION:
SUMMARY:Prayer Group
END:VEVENT
END:VCALENDAR
