BEGIN:VCALENDAR
VERSION:2.0
PRODID:-//www.mbsmissionaries.org//NONSGML kigkonsult.se iCalcreator 2.30.1
 0//
CALSCALE:GREGORIAN
METHOD:PUBLISH
UID:9d6fced9-a476-4aac-8ad6-f89d60ae87ef
X-WR-CALDESC:
X-WR-RELCALID:d36830dc5968435fab9833df03019904
X-WR-TIMEZONE:America/Chicago
BEGIN:VTIMEZONE
TZID:America/Chicago
BEGIN:STANDARD
TZNAME:CST
DTSTART:20271107T020000
TZOFFSETFROM:-0500
TZOFFSETTO:-0600
RDATE:20281105T020000
END:STANDARD
BEGIN:DAYLIGHT
TZNAME:CDT
DTSTART:20270314T020000
TZOFFSETFROM:-0600
TZOFFSETTO:-0500
RDATE:20280312T020000
RDATE:20290311T020000
END:DAYLIGHT
END:VTIMEZONE
BEGIN:VEVENT
UID:db006c8c-442b-476d-b887-36758b8d045f
DTSTAMP:20260423T052514Z
DESCRIPTION:
DTSTART;TZID=America/Chicago:20280201T183000
DTEND;TZID=America/Chicago:20280201T193000
LOCATION:
SUMMARY:Prayer Group
END:VEVENT
END:VCALENDAR
