BEGIN:VCALENDAR
VERSION:2.0
PRODID:-//www.mbsmissionaries.org//NONSGML kigkonsult.se iCalcreator 2.30.1
 0//
CALSCALE:GREGORIAN
METHOD:PUBLISH
UID:d909d1a9-4bd8-4e90-b566-4ee16881b77a
X-WR-CALDESC:
X-WR-RELCALID:deac2cff348a1ea5d6c9b49ed1fdb33f
X-WR-TIMEZONE:America/Chicago
BEGIN:VTIMEZONE
TZID:America/Chicago
BEGIN:STANDARD
TZNAME:CST
DTSTART:20271107T020000
TZOFFSETFROM:-0500
TZOFFSETTO:-0600
RDATE:20281105T020000
END:STANDARD
BEGIN:DAYLIGHT
TZNAME:CDT
DTSTART:20270314T020000
TZOFFSETFROM:-0600
TZOFFSETTO:-0500
RDATE:20280312T020000
RDATE:20290311T020000
END:DAYLIGHT
END:VTIMEZONE
BEGIN:VEVENT
UID:fbaf2c1d-b494-4765-bbf4-f7d96e92896c
DTSTAMP:20260423T052655Z
DESCRIPTION:
DTSTART;TZID=America/Chicago:20280208T183000
DTEND;TZID=America/Chicago:20280208T193000
LOCATION:
SUMMARY:Prayer Group
END:VEVENT
END:VCALENDAR
