BEGIN:VCALENDAR
VERSION:2.0
PRODID:-//www.mbsmissionaries.org//NONSGML kigkonsult.se iCalcreator 2.30.1
 0//
CALSCALE:GREGORIAN
METHOD:PUBLISH
UID:9ab17958-ddf5-4942-9c33-bcd02352e90c
X-WR-CALDESC:
X-WR-RELCALID:698bfcb58e38506e5accecacf73718b4
X-WR-TIMEZONE:America/Chicago
BEGIN:VTIMEZONE
TZID:America/Chicago
BEGIN:STANDARD
TZNAME:CST
DTSTART:20271107T020000
TZOFFSETFROM:-0500
TZOFFSETTO:-0600
RDATE:20281105T020000
END:STANDARD
BEGIN:DAYLIGHT
TZNAME:CDT
DTSTART:20270314T020000
TZOFFSETFROM:-0600
TZOFFSETTO:-0500
RDATE:20280312T020000
RDATE:20290311T020000
END:DAYLIGHT
END:VTIMEZONE
BEGIN:VEVENT
UID:33949b32-53a4-4b62-9dd1-33aaaa8ea826
DTSTAMP:20260423T054110Z
DESCRIPTION:
DTSTART;TZID=America/Chicago:20280215T183000
DTEND;TZID=America/Chicago:20280215T193000
LOCATION:
SUMMARY:Prayer Group
END:VEVENT
END:VCALENDAR
