BEGIN:VCALENDAR
VERSION:2.0
PRODID:-//www.mbsmissionaries.org//NONSGML kigkonsult.se iCalcreator 2.30.1
 0//
CALSCALE:GREGORIAN
METHOD:PUBLISH
UID:f6f70e3d-cefa-4337-aa06-777b3e835e7d
X-WR-CALDESC:
X-WR-RELCALID:fcc7eaa595fe6cf710cd45253cf54c11
X-WR-TIMEZONE:America/Chicago
BEGIN:VTIMEZONE
TZID:America/Chicago
BEGIN:STANDARD
TZNAME:CST
DTSTART:20271107T020000
TZOFFSETFROM:-0500
TZOFFSETTO:-0600
RDATE:20281105T020000
END:STANDARD
BEGIN:DAYLIGHT
TZNAME:CDT
DTSTART:20270314T020000
TZOFFSETFROM:-0600
TZOFFSETTO:-0500
RDATE:20280312T020000
RDATE:20290311T020000
END:DAYLIGHT
END:VTIMEZONE
BEGIN:VEVENT
UID:4b8224dc-29ea-4dbd-8816-490314a34864
DTSTAMP:20260423T054534Z
DESCRIPTION:
DTSTART;TZID=America/Chicago:20280229T150000
DTEND;TZID=America/Chicago:20280229T160000
LOCATION:300 N. 18th Street\, Norfolk\, NE 68701 US
SUMMARY:Coffee with the Sisters on Zoom
END:VEVENT
END:VCALENDAR
