BEGIN:VCALENDAR
VERSION:2.0
PRODID:-//www.mbsmissionaries.org//NONSGML kigkonsult.se iCalcreator 2.30.1
 0//
CALSCALE:GREGORIAN
METHOD:PUBLISH
UID:84540a5e-40ca-4cb8-8189-c4e1c6366bf7
X-WR-CALDESC:
X-WR-RELCALID:8803d53f77d61fdf945a5b1cae9c42b9
X-WR-TIMEZONE:America/Chicago
BEGIN:VTIMEZONE
TZID:America/Chicago
BEGIN:STANDARD
TZNAME:CST
DTSTART:20271107T020000
TZOFFSETFROM:-0500
TZOFFSETTO:-0600
RDATE:20281105T020000
END:STANDARD
BEGIN:DAYLIGHT
TZNAME:CDT
DTSTART:20270314T020000
TZOFFSETFROM:-0600
TZOFFSETTO:-0500
RDATE:20280312T020000
RDATE:20290311T020000
END:DAYLIGHT
END:VTIMEZONE
BEGIN:VEVENT
UID:b481a910-5f89-4490-b310-765bb37d13ed
DTSTAMP:20260423T052656Z
DESCRIPTION:
DTSTART;TZID=America/Chicago:20280229T183000
DTEND;TZID=America/Chicago:20280229T193000
LOCATION:
SUMMARY:Prayer Group
END:VEVENT
END:VCALENDAR
