BEGIN:VCALENDAR
VERSION:2.0
PRODID:-//www.mbsmissionaries.org//NONSGML kigkonsult.se iCalcreator 2.30.1
 0//
CALSCALE:GREGORIAN
METHOD:PUBLISH
UID:68455f0c-833e-408d-ad38-359247fd4366
X-WR-CALDESC:
X-WR-RELCALID:55c68fe3629d4eaed20f7c7d97dfe572
X-WR-TIMEZONE:America/Chicago
BEGIN:VTIMEZONE
TZID:America/Chicago
BEGIN:STANDARD
TZNAME:CST
DTSTART:20271107T020000
TZOFFSETFROM:-0500
TZOFFSETTO:-0600
RDATE:20281105T020000
END:STANDARD
BEGIN:DAYLIGHT
TZNAME:CDT
DTSTART:20270314T020000
TZOFFSETFROM:-0600
TZOFFSETTO:-0500
RDATE:20280312T020000
RDATE:20290311T020000
END:DAYLIGHT
END:VTIMEZONE
BEGIN:VEVENT
UID:788317d3-25a5-4696-9ce0-72dca421d826
DTSTAMP:20260423T073330Z
DESCRIPTION:
DTSTART;TZID=America/Chicago:20280307T150000
DTEND;TZID=America/Chicago:20280307T160000
LOCATION:300 N. 18th Street\, Norfolk\, NE 68701 US
SUMMARY:Coffee with the Sisters on Zoom
END:VEVENT
END:VCALENDAR
