BEGIN:VCALENDAR
VERSION:2.0
PRODID:-//www.mbsmissionaries.org//NONSGML kigkonsult.se iCalcreator 2.30.1
 0//
CALSCALE:GREGORIAN
METHOD:PUBLISH
UID:0dbe20de-c4a5-4909-9d1d-44ccef7300b1
X-WR-CALDESC:
X-WR-RELCALID:15e3a491907014f08222ef017ff28dd5
X-WR-TIMEZONE:America/Chicago
BEGIN:VTIMEZONE
TZID:America/Chicago
BEGIN:STANDARD
TZNAME:CST
DTSTART:20271107T020000
TZOFFSETFROM:-0500
TZOFFSETTO:-0600
RDATE:20281105T020000
END:STANDARD
BEGIN:DAYLIGHT
TZNAME:CDT
DTSTART:20280312T020000
TZOFFSETFROM:-0600
TZOFFSETTO:-0500
RDATE:20290311T020000
END:DAYLIGHT
END:VTIMEZONE
BEGIN:VEVENT
UID:b28c6e33-b654-4061-807b-9a58184a99f6
DTSTAMP:20260423T072226Z
DESCRIPTION:
DTSTART;TZID=America/Chicago:20280314T183000
DTEND;TZID=America/Chicago:20280314T193000
LOCATION:
SUMMARY:Prayer Group
END:VEVENT
END:VCALENDAR
