BEGIN:VCALENDAR
VERSION:2.0
PRODID:-//www.mbsmissionaries.org//NONSGML kigkonsult.se iCalcreator 2.30.1
 0//
CALSCALE:GREGORIAN
METHOD:PUBLISH
UID:7781d1d7-f920-48ae-87fe-044150890c70
X-WR-CALDESC:\n
X-WR-RELCALID:1057d562b035f4b739573f93982011b4
X-WR-TIMEZONE:America/Chicago
BEGIN:VTIMEZONE
TZID:America/Chicago
BEGIN:STANDARD
TZNAME:CST
DTSTART:20271107T020000
TZOFFSETFROM:-0500
TZOFFSETTO:-0600
RDATE:20281105T020000
END:STANDARD
BEGIN:DAYLIGHT
TZNAME:CDT
DTSTART:20280312T020000
TZOFFSETFROM:-0600
TZOFFSETTO:-0500
RDATE:20290311T020000
END:DAYLIGHT
END:VTIMEZONE
BEGIN:VEVENT
UID:dc9e4bc1-b936-43a6-a422-177add6579b1
DTSTAMP:20260423T072124Z
DESCRIPTION:\n
DTSTART;TZID=America/Chicago:20280315T140000
DTEND;TZID=America/Chicago:20280315T150000
LOCATION:
SUMMARY:Anxiety & Depression Support Group
END:VEVENT
END:VCALENDAR
