BEGIN:VCALENDAR
VERSION:2.0
PRODID:-//www.mbsmissionaries.org//NONSGML kigkonsult.se iCalcreator 2.30.1
 0//
CALSCALE:GREGORIAN
METHOD:PUBLISH
UID:f18857db-02f8-4548-97d4-32dd9bb2f776
X-WR-CALDESC:Come move with us...\nWednesdays and Fridays\, 10:00 a.m. \nat
  Immaculata Monastery! \n
X-WR-RELCALID:658840d62d455b7123f9dae2b79261c0
X-WR-TIMEZONE:America/Chicago
BEGIN:VTIMEZONE
TZID:America/Chicago
BEGIN:STANDARD
TZNAME:CST
DTSTART:20271107T020000
TZOFFSETFROM:-0500
TZOFFSETTO:-0600
RDATE:20281105T020000
END:STANDARD
BEGIN:DAYLIGHT
TZNAME:CDT
DTSTART:20280312T020000
TZOFFSETFROM:-0600
TZOFFSETTO:-0500
RDATE:20290311T020000
END:DAYLIGHT
END:VTIMEZONE
BEGIN:VEVENT
UID:18223a6c-fbd5-4996-8fb7-2447cdf32015
DTSTAMP:20260423T074035Z
DESCRIPTION:Come move with us...\nWednesdays and Fridays\, 10:00 a.m. \nat 
 Immaculata Monastery! \n
DTSTART;TZID=America/Chicago:20280322T100000
DTEND;TZID=America/Chicago:20280322T110000
LOCATION:Immaculata Monastery- 300 N. 18th St. Norfolk\, NE 68701
SUMMARY:Tai Chi: Moving for Better Balance
END:VEVENT
END:VCALENDAR
