BEGIN:VCALENDAR
VERSION:2.0
PRODID:-//www.mbsmissionaries.org//NONSGML kigkonsult.se iCalcreator 2.30.1
 0//
CALSCALE:GREGORIAN
METHOD:PUBLISH
UID:9e03f80c-d8af-4a46-9b2f-14551935e391
X-WR-CALDESC:Join us on Zoom for the Cancer Survivor Support Group!
X-WR-RELCALID:d3f279c779d7f9caba0263f9e618d8d6
X-WR-TIMEZONE:America/Chicago
BEGIN:VTIMEZONE
TZID:America/Chicago
BEGIN:STANDARD
TZNAME:CST
DTSTART:20271107T020000
TZOFFSETFROM:-0500
TZOFFSETTO:-0600
RDATE:20281105T020000
END:STANDARD
BEGIN:DAYLIGHT
TZNAME:CDT
DTSTART:20280312T020000
TZOFFSETFROM:-0600
TZOFFSETTO:-0500
RDATE:20290311T020000
END:DAYLIGHT
END:VTIMEZONE
BEGIN:VEVENT
UID:aed8c3ff-20f6-47cb-9306-5abbf181c992
DTSTAMP:20260423T072623Z
DESCRIPTION:Join us on Zoom for the Cancer Survivor Support Group!
DTSTART;TZID=America/Chicago:20280323T190000
DTEND;TZID=America/Chicago:20280323T200000
LOCATION:
SUMMARY:Cancer Survivor Support Group
END:VEVENT
END:VCALENDAR
