BEGIN:VCALENDAR
VERSION:2.0
PRODID:-//www.mbsmissionaries.org//NONSGML kigkonsult.se iCalcreator 2.30.1
 0//
CALSCALE:GREGORIAN
METHOD:PUBLISH
UID:9bc08436-57dd-4851-9155-7d4e5c89c3f3
X-WR-CALDESC:
X-WR-RELCALID:e1c65848be0b6f3c939eeb2725b94e67
X-WR-TIMEZONE:America/Chicago
BEGIN:VTIMEZONE
TZID:America/Chicago
BEGIN:STANDARD
TZNAME:CST
DTSTART:20271107T020000
TZOFFSETFROM:-0500
TZOFFSETTO:-0600
RDATE:20281105T020000
END:STANDARD
BEGIN:DAYLIGHT
TZNAME:CDT
DTSTART:20280312T020000
TZOFFSETFROM:-0600
TZOFFSETTO:-0500
RDATE:20290311T020000
END:DAYLIGHT
END:VTIMEZONE
BEGIN:VEVENT
UID:ee54c958-22c8-40b5-896a-c3ed16fd752b
DTSTAMP:20260423T072331Z
DESCRIPTION:
DTSTART;TZID=America/Chicago:20280328T183000
DTEND;TZID=America/Chicago:20280328T193000
LOCATION:
SUMMARY:Prayer Group
END:VEVENT
END:VCALENDAR
