BEGIN:VCALENDAR
VERSION:2.0
PRODID:-//www.mbsmissionaries.org//NONSGML kigkonsult.se iCalcreator 2.30.1
 0//
CALSCALE:GREGORIAN
METHOD:PUBLISH
UID:e2cc291d-31ef-43ea-a5ed-1233f8fe1c0b
X-WR-CALDESC:
X-WR-RELCALID:b7052dd3d6e124e2467745c83d7fe6dd
X-WR-TIMEZONE:America/Chicago
BEGIN:VTIMEZONE
TZID:America/Chicago
BEGIN:STANDARD
TZNAME:CST
DTSTART:20271107T020000
TZOFFSETFROM:-0500
TZOFFSETTO:-0600
RDATE:20281105T020000
END:STANDARD
BEGIN:DAYLIGHT
TZNAME:CDT
DTSTART:20280312T020000
TZOFFSETFROM:-0600
TZOFFSETTO:-0500
RDATE:20290311T020000
END:DAYLIGHT
END:VTIMEZONE
BEGIN:VEVENT
UID:c78d763d-557d-4fae-9ce6-dad943620398
DTSTAMP:20260425T105529Z
DESCRIPTION:
DTSTART;TZID=America/Chicago:20280502T183000
DTEND;TZID=America/Chicago:20280502T193000
LOCATION:
SUMMARY:Prayer Group
END:VEVENT
END:VCALENDAR
