BEGIN:VCALENDAR
VERSION:2.0
PRODID:-//www.mbsmissionaries.org//NONSGML kigkonsult.se iCalcreator 2.30.1
 0//
CALSCALE:GREGORIAN
METHOD:PUBLISH
UID:8ee26c7d-f334-4748-9a87-bcb18fa1f9e6
X-WR-CALDESC:
X-WR-RELCALID:ca919142b41ab7a45bc9c51092960399
X-WR-TIMEZONE:America/Chicago
BEGIN:VTIMEZONE
TZID:America/Chicago
BEGIN:STANDARD
TZNAME:CST
DTSTART:20271107T020000
TZOFFSETFROM:-0500
TZOFFSETTO:-0600
RDATE:20281105T020000
RDATE:20291104T020000
END:STANDARD
BEGIN:DAYLIGHT
TZNAME:CDT
DTSTART:20280312T020000
TZOFFSETFROM:-0600
TZOFFSETTO:-0500
RDATE:20290311T020000
END:DAYLIGHT
END:VTIMEZONE
BEGIN:VEVENT
UID:60fd4044-def4-46b2-98ad-e76a8d27fc10
DTSTAMP:20260425T105642Z
DESCRIPTION:
DTSTART;TZID=America/Chicago:20280516T183000
DTEND;TZID=America/Chicago:20280516T193000
LOCATION:
SUMMARY:Prayer Group
END:VEVENT
END:VCALENDAR
