BEGIN:VCALENDAR
VERSION:2.0
PRODID:-//www.mbsmissionaries.org//NONSGML kigkonsult.se iCalcreator 2.30.1
 0//
CALSCALE:GREGORIAN
METHOD:PUBLISH
UID:fd807495-5644-4bbc-aa0d-9cde6188da10
X-WR-CALDESC:
X-WR-RELCALID:a8227efae3e3d851366e0629d381b5ef
X-WR-TIMEZONE:America/Chicago
BEGIN:VTIMEZONE
TZID:America/Chicago
BEGIN:STANDARD
TZNAME:CST
DTSTART:20271107T020000
TZOFFSETFROM:-0500
TZOFFSETTO:-0600
RDATE:20281105T020000
RDATE:20291104T020000
END:STANDARD
BEGIN:DAYLIGHT
TZNAME:CDT
DTSTART:20280312T020000
TZOFFSETFROM:-0600
TZOFFSETTO:-0500
RDATE:20290311T020000
END:DAYLIGHT
END:VTIMEZONE
BEGIN:VEVENT
UID:a3416626-0579-45e1-aeb9-e19995c48f49
DTSTAMP:20260425T105802Z
DESCRIPTION:
DTSTART;TZID=America/Chicago:20280523T183000
DTEND;TZID=America/Chicago:20280523T193000
LOCATION:
SUMMARY:Prayer Group
END:VEVENT
END:VCALENDAR
